BEGIN:VCALENDAR
VERSION:2.0
PRODID:-//Schule An der Tesche - Wuppertal - ECPv6.15.20//NONSGML v1.0//EN
CALSCALE:GREGORIAN
METHOD:PUBLISH
X-ORIGINAL-URL:https://schule-tesche.de
X-WR-CALDESC:Veranstaltungen für Schule An der Tesche - Wuppertal
REFRESH-INTERVAL;VALUE=DURATION:PT1H
X-Robots-Tag:noindex
X-PUBLISHED-TTL:PT1H
BEGIN:VTIMEZONE
TZID:Europe/Berlin
BEGIN:DAYLIGHT
TZOFFSETFROM:+0100
TZOFFSETTO:+0200
TZNAME:CEST
DTSTART:20230326T010000
END:DAYLIGHT
BEGIN:STANDARD
TZOFFSETFROM:+0200
TZOFFSETTO:+0100
TZNAME:CET
DTSTART:20231029T010000
END:STANDARD
BEGIN:DAYLIGHT
TZOFFSETFROM:+0100
TZOFFSETTO:+0200
TZNAME:CEST
DTSTART:20240331T010000
END:DAYLIGHT
BEGIN:STANDARD
TZOFFSETFROM:+0200
TZOFFSETTO:+0100
TZNAME:CET
DTSTART:20241027T010000
END:STANDARD
BEGIN:DAYLIGHT
TZOFFSETFROM:+0100
TZOFFSETTO:+0200
TZNAME:CEST
DTSTART:20250330T010000
END:DAYLIGHT
BEGIN:STANDARD
TZOFFSETFROM:+0200
TZOFFSETTO:+0100
TZNAME:CET
DTSTART:20251026T010000
END:STANDARD
END:VTIMEZONE
BEGIN:VEVENT
DTSTART;TZID=Europe/Berlin:20240917T183000
DTEND;TZID=Europe/Berlin:20240917T200000
DTSTAMP:20260423T110546
CREATED:20240819T152857Z
LAST-MODIFIED:20240819T152940Z
UID:4154-1726597800-1726603200@schule-tesche.de
SUMMARY:Informationsabend für Einschüler 2025/2026
DESCRIPTION:Alle Eltern von Kindern die 2025 eingeschult werden sind herzlich zu unserer Informationsveranstaltung eingeladen. Auch weitere pädagogische Fachkräfte sind willkommen. \nDer Informationsabend behandelt dieselben Themen wie der der Informationsnachmittag am 16.9.24 (die Veranstaltungen sind inhaltlich gleich). \nAm Informationsabend bieten wir keine Kinderbetreuung an.
URL:https://schule-tesche.de/event/informationsabend-fuer-einschueler-2025-2026/
END:VEVENT
END:VCALENDAR