BEGIN:VCALENDAR
VERSION:2.0
PRODID:-//Schule An der Tesche - Wuppertal - ECPv6.15.20//NONSGML v1.0//EN
CALSCALE:GREGORIAN
METHOD:PUBLISH
X-WR-CALNAME:Schule An der Tesche - Wuppertal
X-ORIGINAL-URL:https://schule-tesche.de
X-WR-CALDESC:Veranstaltungen für Schule An der Tesche - Wuppertal
REFRESH-INTERVAL;VALUE=DURATION:PT1H
X-Robots-Tag:noindex
X-PUBLISHED-TTL:PT1H
BEGIN:VTIMEZONE
TZID:Europe/Berlin
BEGIN:DAYLIGHT
TZOFFSETFROM:+0100
TZOFFSETTO:+0200
TZNAME:CEST
DTSTART:20230326T010000
END:DAYLIGHT
BEGIN:STANDARD
TZOFFSETFROM:+0200
TZOFFSETTO:+0100
TZNAME:CET
DTSTART:20231029T010000
END:STANDARD
BEGIN:DAYLIGHT
TZOFFSETFROM:+0100
TZOFFSETTO:+0200
TZNAME:CEST
DTSTART:20240331T010000
END:DAYLIGHT
BEGIN:STANDARD
TZOFFSETFROM:+0200
TZOFFSETTO:+0100
TZNAME:CET
DTSTART:20241027T010000
END:STANDARD
BEGIN:DAYLIGHT
TZOFFSETFROM:+0100
TZOFFSETTO:+0200
TZNAME:CEST
DTSTART:20250330T010000
END:DAYLIGHT
BEGIN:STANDARD
TZOFFSETFROM:+0200
TZOFFSETTO:+0100
TZNAME:CET
DTSTART:20251026T010000
END:STANDARD
END:VTIMEZONE
BEGIN:VEVENT
DTSTART;TZID=Europe/Berlin:20241106T170000
DTEND;TZID=Europe/Berlin:20241106T190000
DTSTAMP:20260423T134531
CREATED:20240819T150939Z
LAST-MODIFIED:20240819T150939Z
UID:4136-1730912400-1730919600@schule-tesche.de
SUMMARY:Laternenfest - St. Martin
DESCRIPTION:Der Unterricht endet für alle Kinder nach der 4. Stunde.
URL:https://schule-tesche.de/event/laternenfest-st-martin/
END:VEVENT
BEGIN:VEVENT
DTSTART;TZID=Europe/Berlin:20241106T170000
DTEND;TZID=Europe/Berlin:20241106T190000
DTSTAMP:20260423T134531
CREATED:20260225T130203Z
LAST-MODIFIED:20260225T130203Z
UID:4574-1730912400-1730919600@schule-tesche.de
SUMMARY:Laternenfest - St. Martin
DESCRIPTION:Der Unterricht endet für alle Kinder nach der 4. Stunde.
URL:https://schule-tesche.de/event/laternenfest-st-martin-2/
END:VEVENT
BEGIN:VEVENT
DTSTART;TZID=Europe/Berlin:20241114T120000
DTEND;TZID=Europe/Berlin:20241114T190000
DTSTAMP:20260423T134531
CREATED:20240819T151151Z
LAST-MODIFIED:20240822T192954Z
UID:4140-1731585600-1731610800@schule-tesche.de
SUMMARY:Elternsprechtag
DESCRIPTION:Der Unterricht endet für alle Kinder nach der 4. Stunde. \nBitte vereinbaren Sie einen Termin mit Ihrer Klassenlehrer/in.
URL:https://schule-tesche.de/event/elternsprechtag-2/
END:VEVENT
BEGIN:VEVENT
DTSTART;TZID=Europe/Berlin:20241114T120000
DTEND;TZID=Europe/Berlin:20241114T190000
DTSTAMP:20260423T134531
CREATED:20260225T130204Z
LAST-MODIFIED:20260225T130204Z
UID:4576-1731585600-1731610800@schule-tesche.de
SUMMARY:Elternsprechtag
DESCRIPTION:Der Unterricht endet für alle Kinder nach der 4. Stunde. \nBitte vereinbaren Sie einen Termin mit Ihrer Klassenlehrer/in.
URL:https://schule-tesche.de/event/elternsprechtag-2-2/
END:VEVENT
BEGIN:VEVENT
DTSTART;TZID=Europe/Berlin:20241119T120000
DTEND;TZID=Europe/Berlin:20241119T190000
DTSTAMP:20260423T134531
CREATED:20240819T151101Z
LAST-MODIFIED:20240819T151101Z
UID:4138-1732017600-1732042800@schule-tesche.de
SUMMARY:Elternsprechtag
DESCRIPTION:Der Unterricht endet für alle Kinder nach der 4. Stunde. \nBitte vereinbaren Sie einen Termin mit Ihrer Klassenlehrer/in.
URL:https://schule-tesche.de/event/elternsprechtag/
END:VEVENT
BEGIN:VEVENT
DTSTART;TZID=Europe/Berlin:20241119T120000
DTEND;TZID=Europe/Berlin:20241119T190000
DTSTAMP:20260423T134531
CREATED:20260225T130203Z
LAST-MODIFIED:20260225T130203Z
UID:4575-1732017600-1732042800@schule-tesche.de
SUMMARY:Elternsprechtag
DESCRIPTION:Der Unterricht endet für alle Kinder nach der 4. Stunde. \nBitte vereinbaren Sie einen Termin mit Ihrer Klassenlehrer/in.
URL:https://schule-tesche.de/event/elternsprechtag-5/
END:VEVENT
BEGIN:VEVENT
DTSTART;TZID=Europe/Berlin:20241121T190000
DTEND;TZID=Europe/Berlin:20241121T210000
DTSTAMP:20260423T134531
CREATED:20240822T193537Z
LAST-MODIFIED:20240911T172746Z
UID:4164-1732215600-1732222800@schule-tesche.de
SUMMARY:Vortrag Achim Schad: "Liebe allein genügt nicht"
DESCRIPTION:Der bekannte Wuppertaler Familientherapeut hält einen kurzweiligen und humorvollen Vortrag. Alle Eltern sind sehr herzlich eingeladen!
URL:https://schule-tesche.de/event/elternabend-mit-achim-schad-lernmotivation-foerdern/
END:VEVENT
END:VCALENDAR