BEGIN:VCALENDAR
VERSION:2.0
PRODID:-//Schule An der Tesche - Wuppertal - ECPv6.15.20//NONSGML v1.0//EN
CALSCALE:GREGORIAN
METHOD:PUBLISH
X-WR-CALNAME:Schule An der Tesche - Wuppertal
X-ORIGINAL-URL:https://schule-tesche.de
X-WR-CALDESC:Veranstaltungen für Schule An der Tesche - Wuppertal
REFRESH-INTERVAL;VALUE=DURATION:PT1H
X-Robots-Tag:noindex
X-PUBLISHED-TTL:PT1H
BEGIN:VTIMEZONE
TZID:Europe/Berlin
BEGIN:DAYLIGHT
TZOFFSETFROM:+0100
TZOFFSETTO:+0200
TZNAME:CEST
DTSTART:20240331T010000
END:DAYLIGHT
BEGIN:STANDARD
TZOFFSETFROM:+0200
TZOFFSETTO:+0100
TZNAME:CET
DTSTART:20241027T010000
END:STANDARD
BEGIN:DAYLIGHT
TZOFFSETFROM:+0100
TZOFFSETTO:+0200
TZNAME:CEST
DTSTART:20250330T010000
END:DAYLIGHT
BEGIN:STANDARD
TZOFFSETFROM:+0200
TZOFFSETTO:+0100
TZNAME:CET
DTSTART:20251026T010000
END:STANDARD
BEGIN:DAYLIGHT
TZOFFSETFROM:+0100
TZOFFSETTO:+0200
TZNAME:CEST
DTSTART:20260329T010000
END:DAYLIGHT
BEGIN:STANDARD
TZOFFSETFROM:+0200
TZOFFSETTO:+0100
TZNAME:CET
DTSTART:20261025T010000
END:STANDARD
END:VTIMEZONE
BEGIN:VEVENT
DTSTART;VALUE=DATE:20250107
DTEND;VALUE=DATE:20250108
DTSTAMP:20260425T140116
CREATED:20240819T151342Z
LAST-MODIFIED:20240819T151342Z
UID:4144-1736208000-1736294399@schule-tesche.de
SUMMARY:erster Schultag nach den Weihnachtsferien
DESCRIPTION:
URL:https://schule-tesche.de/event/erster-schultag-nach-den-weihnachtsferien/
END:VEVENT
BEGIN:VEVENT
DTSTART;TZID=Europe/Berlin:20250121T160000
DTEND;TZID=Europe/Berlin:20250121T190000
DTSTAMP:20260425T140116
CREATED:20250102T113537Z
LAST-MODIFIED:20250102T113537Z
UID:4245-1737475200-1737486000@schule-tesche.de
SUMMARY:"Frau Holle" - Tescher Puppentheater
DESCRIPTION:Das Kollegium an der Tesche lädt herzlich ein zum Puppentheater in die Aula am Standort Tesche um 16 Uhr (1. Vorstellung) un 18 Uhr (2. Vorstellung)
URL:https://schule-tesche.de/event/frau-holle-tescher-puppentheater/
LOCATION:Tesche Aula
END:VEVENT
END:VCALENDAR